BEGIN:VCALENDAR
VERSION:2.0
PRODID:-//Palomar Audubon Society - ECPv6.15.20//NONSGML v1.0//EN
CALSCALE:GREGORIAN
METHOD:PUBLISH
X-WR-CALNAME:Palomar Audubon Society
X-ORIGINAL-URL:https://palomaraudubon.org
X-WR-CALDESC:Events for Palomar Audubon Society
REFRESH-INTERVAL;VALUE=DURATION:PT1H
X-Robots-Tag:noindex
X-PUBLISHED-TTL:PT1H
BEGIN:VTIMEZONE
TZID:UTC
BEGIN:STANDARD
TZOFFSETFROM:+0000
TZOFFSETTO:+0000
TZNAME:UTC
DTSTART:20250101T000000
END:STANDARD
END:VTIMEZONE
BEGIN:VTIMEZONE
TZID:America/Denver
BEGIN:DAYLIGHT
TZOFFSETFROM:-0700
TZOFFSETTO:-0600
TZNAME:MDT
DTSTART:20250309T090000
END:DAYLIGHT
BEGIN:STANDARD
TZOFFSETFROM:-0600
TZOFFSETTO:-0700
TZNAME:MST
DTSTART:20251102T080000
END:STANDARD
BEGIN:DAYLIGHT
TZOFFSETFROM:-0700
TZOFFSETTO:-0600
TZNAME:MDT
DTSTART:20260308T090000
END:DAYLIGHT
BEGIN:STANDARD
TZOFFSETFROM:-0600
TZOFFSETTO:-0700
TZNAME:MST
DTSTART:20261101T080000
END:STANDARD
BEGIN:DAYLIGHT
TZOFFSETFROM:-0700
TZOFFSETTO:-0600
TZNAME:MDT
DTSTART:20270314T090000
END:DAYLIGHT
BEGIN:STANDARD
TZOFFSETFROM:-0600
TZOFFSETTO:-0700
TZNAME:MST
DTSTART:20271107T080000
END:STANDARD
END:VTIMEZONE
BEGIN:VEVENT
DTSTART;TZID=UTC:20260415T080000
DTEND;TZID=UTC:20260425T170000
DTSTAMP:20260423T070755
CREATED:20251022T212821Z
LAST-MODIFIED:20251022T212821Z
UID:10828-1776240000-1777136400@palomaraudubon.org
SUMMARY:Northern Costa Rica Birding Adventure
DESCRIPTION:This Trip is currently full. \nContact PalomarAudubon@gmail.com about being added to the waitlist.\n\nNORTHERN COSTA RICA BIRDING TOUR “THE QUEST FOR ENDANGERED SPECIES”\nAlthough Costa Rica is a relatively small country\, it lies within a bird-rich neotropical region\, boasting an extraordinary number of bird species for its size. To date\, 936 bird species have been recorded in Costa Rica\, including 7 endemic species and 20 globally threatened species. With an area of only 51\,100 km²—smaller than the state of West Virginia—Costa Rica holds the highest density of bird species of any continental American country\, making it a true paradise for bird enthusiasts and nature lovers alike. This remarkable biodiversity is a testament to the country’s diverse ecosystems\, ranging from cloud forests and rainforests to coastal wetlands and high-altitude paramo regions. \nPalomar Audubon Society\, in collaboration with Crescentia Expeditions\, invites you on an exciting fundraising birding trip to explore Northern Costa Rica’s rich avian diversity. Witness spectacular birds\, breathtaking landscapes\, and immerse yourself in the vibrant culture and history of this beautiful country. Your participation supports PAS projects and two local conservation groups. Join us for an unforgettable journey that promises discovery and learning about the intricate ecosystems and vibrant communities that make Costa Rica a paradise for nature enthusiasts. \nPlease see the trip flyer for trip details \n 
URL:https://palomaraudubon.org/event/northern-costa-rica-birding-adventure/
CATEGORIES:Birding Adventures
END:VEVENT
BEGIN:VEVENT
DTSTART;TZID=America/Denver:20260501T080000
DTEND;TZID=America/Denver:20260505T170000
DTSTAMP:20260423T070755
CREATED:20260316T025545Z
LAST-MODIFIED:20260316T025739Z
UID:11258-1777622400-1778000400@palomaraudubon.org
SUMMARY:Birding Adventure: Eastern Sierra/Owens Valley
DESCRIPTION:Eastern Sierra/Owens Valley: May 1-5\, 2026\n\nFor this birding trip\, we will travel along the slopes of the Eastern Sierra\, stopping at various places to look for birds and enjoy the views of the mountains. The main event will be the Sage Grouse mating ritual at their Lek near Crowley Lake. \n\nMay 1st is a travel day to Lone Pine. \nMay 2nd\, we will travel north to Bishop\, birding along the way. Important stops will be at Glacier Lodge for Sooty Grouse and Aspendell for gray-crowned rosy finch and other high altitude specialties. We will stay in Bishop for 2 nights. \nMay 3rd will find us at the Lake Crowley grouse lek at 5:30 AM\, which means leaving Bishop no later than 4:45 AM. We will spend ample time at the lek\, then bird in a long loop for the rest of the day\, stopping along the way for a picnic lunch\, and finally arriving back at Bishop in the afternoon. \nMay 4th\, we will bird our way back to Lone Pine with several stops planned. Spend the night of the 4th in Lone Pine or forge on home if you have the energy. \nMay 5th\, drive up to Whitney Portal\, then drive home. \n\nLeaders: Steve Ellis and Hal Benham\nThe trip will be limited to 20 participants. The cost is $100 per person. \nPlease email PalomarAudubon@gmail.com if you are interested.
URL:https://palomaraudubon.org/event/birding-adventure-eastern-sierra-owens-valley/
CATEGORIES:Birding Adventures
END:VEVENT
BEGIN:VEVENT
DTSTART;TZID=UTC:20260718T080000
DTEND;TZID=UTC:20260723T170000
DTSTAMP:20260423T070755
CREATED:20251022T214526Z
LAST-MODIFIED:20260316T025703Z
UID:10840-1784361600-1784826000@palomaraudubon.org
SUMMARY:Birding Adventure: Maine
DESCRIPTION:This Trip is currently full. \nContact PalomarAudubon@gmail.com about being added to the waitlist.\n \nHello Adventure Lovers! Are you ready for another exciting birding adventure sponsored by PAS? How about a trip to the exact opposite corner of the United States\, Acadia National Park\, Maine? This trip is planned for July 18-23\, 2026; prime nesting season for the Atlantic Puffin. We will stay in cabins in the national park\, and eat our meals in the dining hall there. Our tour leader will be Seth Benz\, an accomplished birder who has amassed over 30 years of experience. He is the director of the Schoodic Institute Bird Ecology Program at Acadia National Park. As part of our tour\, we will take a pelagic trip to the stunning Petit Manan Island to view the nesting Atlantic Puffins\, our target bird! I will attach the tentative 6-day itinerary. The cabins where we will stay have two private bedrooms with a shared bathroom\, living room\, and kitchen. Although they are called cabins\, they are more like a small apartment. I will attach a link to the lodging so you will be able to view the cabins. (Go to “Cabins” and click to see the floor plan.) I was told that they will place us with 2 people in each cabin. There is no option for a single supplement\, but your sleeping space will be private. The dining hall where we will have our meals will be either cafeteria style or buffet style\, with options for everyone. Our lunch meals will be picnics packed for us at the institute\, and taken along to eat during the day when we are out birding. There will be opportunities for you to make choices. We will be dining on lobster for our final dinner\, or something equally delicious for the non-lobster lovers. The cost for this all-inclusive trip will be $1\,989 per person. There will be a 30% deposit of $567 due at the time of booking\, and the balance of $1\,422 due 60 days before the date of the trip. The trip includes all meals\, lodging\, guides\, transportation (including airport pick up and drop off)\, and the Acadia Puffin Cruise. Not included are alcoholic drinks\, personal items\, tips to guides and boat captain\, and airfare to and from Maine. Now for the bad news: this trip is limited to only 10 participants. This is necessary due to the limited number of cabins and the limited number of vehicles for transportation. We will hold a lottery for the 10 positions. If you are traveling with another person\, both names will go in the lottery on the same ticket. That way it is either both of you or neither of you when the names are drawn. There will be a wait list; if you don’t make the top 10\, and because the trip is so far away\, there is a good chance that people on the wait list will have the opportunity to move up. There is also a possibility that the institute will be able to offer us a second trip\, back-to-back with the first one\, if we have more than double the interest. Trip #2 would have the exact same itinerary as Trip #1. So please\, if you are interested in this trip\, don’t be shy about signing up! The lottery will be held on October 22nd. We are allowing 2 1/2 weeks for everyone to have a chance to hear about this offering and to decide if you are interested. On October 22nd\, we will let everyone know their position\, following the drawing. (We hope to know at that time if we will be able to book a second trip following the first.) The top 10 people will then need to submit their deposit\, which will hold our spot/dates for this tour. The Schoodic Institute at Acadia National Park is booking and charging PAS for a group of 10\, which means that your payment will be made to Palomar Audubon\, and Palomar Audubon will make one payment for the whole group. For this reason\, the deposit will be non-refundable unless there is someone on the wait list to take your place. It is highly likely that there will be someone on the wait list to move into your slot in the event that your plans change and you are unable to go\, but this is information that you need to consider before putting your name in the lottery. Are you in? Please send your interest in participating to diannebenham@me.com. Make sure to let us know if you want your name in the lottery as a single or if you have a travel partner. I will answer your email to let you know I received it and that you are in the lottery. Please do NOT reply to this group email\, as your response will go to the whole group rather than to my email address. On October 22nd\, I will contact each person to let them know the results of the lottery. Let’s Go Birding in Maine!!! \nTrip Itinerary
URL:https://palomaraudubon.org/event/maine-birding-adventure/
CATEGORIES:Birding Adventures
ORGANIZER;CN="Dianne Benham":MAILTO:diannebenham@me.com
END:VEVENT
END:VCALENDAR